BEGIN:VCALENDAR
VERSION:2.0
PRODID:-//Sri RajaRajeshwari Peetham - ECPv6.15.20//NONSGML v1.0//EN
CALSCALE:GREGORIAN
METHOD:PUBLISH
X-WR-CALNAME:Sri RajaRajeshwari Peetham
X-ORIGINAL-URL:https://srirajarajeswaripeetham.org
X-WR-CALDESC:Events for Sri RajaRajeshwari Peetham
REFRESH-INTERVAL;VALUE=DURATION:PT1H
X-Robots-Tag:noindex
X-PUBLISHED-TTL:PT1H
BEGIN:VTIMEZONE
TZID:America/Chicago
BEGIN:DAYLIGHT
TZOFFSETFROM:-0600
TZOFFSETTO:-0500
TZNAME:CDT
DTSTART:20240310T080000
END:DAYLIGHT
BEGIN:STANDARD
TZOFFSETFROM:-0500
TZOFFSETTO:-0600
TZNAME:CST
DTSTART:20241103T070000
END:STANDARD
BEGIN:DAYLIGHT
TZOFFSETFROM:-0600
TZOFFSETTO:-0500
TZNAME:CDT
DTSTART:20250309T080000
END:DAYLIGHT
BEGIN:STANDARD
TZOFFSETFROM:-0500
TZOFFSETTO:-0600
TZNAME:CST
DTSTART:20251102T070000
END:STANDARD
BEGIN:DAYLIGHT
TZOFFSETFROM:-0600
TZOFFSETTO:-0500
TZNAME:CDT
DTSTART:20260308T080000
END:DAYLIGHT
BEGIN:STANDARD
TZOFFSETFROM:-0500
TZOFFSETTO:-0600
TZNAME:CST
DTSTART:20261101T070000
END:STANDARD
END:VTIMEZONE
BEGIN:VEVENT
DTSTART;TZID=America/Chicago:20250823T190000
DTEND;TZID=America/Chicago:20250824T185959
DTSTAMP:20260422T134419
CREATED:20250820T001448Z
LAST-MODIFIED:20250913T233334Z
UID:13883-1755975600-1756061999@srirajarajeswaripeetham.org
SUMMARY:31st Chandi\, Varahi\, Lalita & Rudra Homas\, Srisailam\, AP
DESCRIPTION:Sri Rajarajeshwari Peetham Peetham is performing the 31st Chandi homam out of 108 (sankalpam) at Khamakya Temple\, Guwahati\, Assam\, India\, along with other powerful Shakti Homas like Varahi\, Lalitha and Rudra. \nPoint of Contacts on this event\nNVS Murthy garu +91 98660 76962 \nEvent PhotosAll our previous events \n\n\n \nSri Rajarajeshwari Peetham Sadhakas have been performing Shakti Homas\, which include the powerful Sri Ganapati\, Sri Lalita\, Sri Shyamala\, Chandi & Rudra Homas for universal peace and for the fulfillment of sadhakas sadhana towards Sri Vidya\, the sacred path of Devi\, and also towards our Peetam’s goal of performing 108 Homas\, and we are in the 30th Homam. \n\n\n\n\n \n  \n\n\n\n\n \n\n\n\nSchedule of Events (tentative):\n\n\n\n \n\n\n21-Aug-25 Schedule (IST): Thursday \n \n\n\n \n05:00 AM: Sri Venkateswara Suprabhatam and Vishnu Sahsranama Parayanam \n\n\n\n\n \n05:30 AM: Sri Devi Mahatmyam Paranayana  \n\n\n\n\n \n07:30 AM: Sri Chandi Homam \n\n\n\n\n \n10:30 AM: Sri Varahi Homam \n\n\n\n\n \n11:30 AM: Sri Lalita Homam \n\n\n\n\n \n12:30 AM: Sri Rudra Homam \n\n\n\n\n \n01:00 PM: Maha Prasadam for Guests \n\n\n\n\n \n01:30 PM: Poornahuti \n\n\n\n\n \n02:00 PM: Maha Prasadam for Ritwicks  \n\n\n\n\n \nSignificance of Chandi Homam \n\n\n\nMaa Durga is the prime deity of this Homa/Havan\, and she is the ultimate feminine energy in this universe. She is the mother of this universe\, and she epitomizes in herself all the divine forces for saving her dear children on Earth from evil. \n \nMain benefits of conducting this Chandi Homam:1) Performing Chandi Homam helps in overcoming obstacles and barriers in life.2) Helps you attain success and win over one’s enemies.3) Blesses one’s life with positivity\, long-lasting health\, wealth\, prosperity\, and happiness.4) Liberates one from evil eyes and curses. \n \nSignificance of Rudra Homam\n \nRudra is Lord Shiva\, the destroyer of evil forces\, and this homam is dedicated to him. He can control the nine planets and thus controls time and space. Rudra Homam\, when chanted with devotion and care\, can directly pierce through your deepest energy layers\, energize the naadis\, and flush out the negative forces that influence your health and mental states. \n \nMain benefits of conducting this Rudra Homam: \n \n1) Remove your sins and karmic effects \n \n2) Conquer troubles and death fears \n \n3) Fulfill desires & Solve relationship issues \n \n4) Protect yourself from harmful outside forces
URL:https://srirajarajeswaripeetham.org/event/31st-chandi-homamsrisailamap/
LOCATION:SRRP\, 4669 Marigold Dr\, Frisco\, Texas\, 75035\, United States
CATEGORIES:Homam
ATTACH;FMTTYPE=image/jpeg:https://srirajarajeswaripeetham.org/wp-content/uploads/2025/08/Chandi-Homam-24Aug25-Srisailam.jpg
END:VEVENT
BEGIN:VEVENT
DTSTART;TZID=America/Chicago:20250826T163000
DTEND;TZID=America/Chicago:20250826T003000
DTSTAMP:20260422T134420
CREATED:20250824T095835Z
LAST-MODIFIED:20250913T233215Z
UID:14005-1756225800-1756168200@srirajarajeswaripeetham.org
SUMMARY:32nd Chandi\, Lalita & Rudra Homas (Vijayawada\, India)
DESCRIPTION:Sri Rajarajeshwari Peetham Peetham is performing the 32nd Chandi homam out of 108 (sankalpam) at Kanaka Durga Temple\, Vijayawada\, AP\, India\, along with other powerful Shakti Homas like Varahi\, Lalitha and Rudra. \n\n\n\nPoint of Contacts on this event\n\n\n\nSri Ramesh Paramatmuni garu +1 612-850-1149 \n\n\n\nEvent Photos\n\n\n\nAll our previous events\n\n\n\nSri Rajarajeshwari Peetham Sadhakas have been performing Shakti Homas\, which include the powerful Sri Ganapati\, Sri Lalita\, Sri Shyamala\, Chandi & Rudra Homas for universal peace and for the fulfillment of sadhakas sadhana towards Sri Vidya\, the sacred path of Devi\, and also towards our Peetam’s goal of performing 108 Homas\, and we are in the 31st Homam. \n\n\n\nSchedule of Events (tentative):\n\n\n\n26-Aug-25 Schedule (IST): Thursday \n\n\n\n08:00 AM: Sri Venkateswara Suprabhatam and Vishnu Sahsranama Parayanam \n\n\n\n08:30 AM: Sri Devi Mahatmyam Paranayana  \n\n\n\n10:30 AM: Sri Chandi Homam \n\n\n\n01:30 PM: Sri Lalita Homam \n\n\n\n02:30 AM: Sri Rudra Homam \n\n\n\n01:30 PM: Poornahuti \n\n\n\nSignificance of Chandi Homam\n\n\n\nMaa Durga is the prime deity of this Homa/Havan\, and she is the ultimate feminine energy in this universe. She is the mother of this universe\, and she epitomizes in herself all the divine forces for saving her dear children on Earth from evil. \n\n\n\nMain benefits of conducting this Chandi Homam:1) Performing Chandi Homam helps in overcoming obstacles and barriers in life.2) Helps you attain success and win over one’s enemies.3) Blesses one’s life with positivity\, long-lasting health\, wealth\, prosperity\, and happiness.4) Liberates one from evil eyes and curses. \n\n\n\nSignificance of Rudra Homam\n\n\n\nRudra is Lord Shiva\, the destroyer of evil forces\, and this homam is dedicated to him. He can control the nine planets and thus controls time and space. Rudra Homam\, when chanted with devotion and care\, can directly pierce through your deepest energy layers\, energize the naadis\, and flush out the negative forces that influence your health and mental states. \n\n\n\nMain benefits of conducting this Rudra Homam: \n\n\n\n1) Remove your sins and karmic effects \n\n\n\n2) Conquer troubles and death fears \n\n\n\n3) Fulfill desires & Solve relationship issues \n\n\n\n4) Protect yourself from harmful outside forces
URL:https://srirajarajeswaripeetham.org/event/32nd-chandi-lalita-rudra-homas-vijayawada-india/
CATEGORIES:Homam
ATTACH;FMTTYPE=image/jpeg:https://srirajarajeswaripeetham.org/wp-content/uploads/2025/08/1000310431.jpg
END:VEVENT
BEGIN:VEVENT
DTSTART;TZID=America/Chicago:20250827T190000
DTEND;TZID=America/Chicago:20250828T185959
DTSTAMP:20260422T134420
CREATED:20250827T011400Z
LAST-MODIFIED:20250913T232840Z
UID:14036-1756321200-1756407599@srirajarajeswaripeetham.org
SUMMARY:33rd Chandi\, Lalita & Rudra Homas (Pithapuram\, AP\, India)
DESCRIPTION:Sri Rajarajeshwari Peetham Peetham is performing the 33rdd Chandi homam out of 108 (sankalpam) at Pithapuram\, Puruhutika Peetham\, AP\, India\, along with other powerful Shakti Homas like Varahi\, Lalitha and Rudra.Pithapuram is also known as Dakshina Kasi. The Puruhutika devi Temple (Puruhutika Peetham) inside the Kukkudeshwara Temple is a Shakti Peetha where Sati (goddess)’s Left hand fell. The etymology of the location (Peetha Puram or Pithapuram) comes associated with the presence of this Shakti Peetha in the area. \n\n\n\nHistory of this Temple \n\n\n\nPuruhutika Devi was worshiped by Lord Indra. When Indra betrayed Ahilya (wife of Gautama Maharishi) on the way to Gautama Rishi and was cursed by Maharishi. Indra lost his testicles and also got vaginal marks all over his body. \n\n\n\nHe felt really sorry and prayed to sage Gautam. The sage informed and accepted that the yoni marks would appear like eyes so that Indra would henceforth be called Sahasraksha. Indra lost his testes. He wanted to do good to them back. He left his kingdom\, went to Pithika Puri and did penance for Jaganmata. \n\n\n\nPuruhutika ShaktiPeeth\, Pithapuram \n\n\n\nSree Kshetra Pithapuram | Sree Datta Vaibhavam \n\n\n\nPoint of Contacts on this event\n\n\n\nSri Ramesh Paramatmuni garu +1 612-850-1149 \n\n\n\nEvent Photos\n\n\n\nAll our previous events\n\n\n\nSri Rajarajeshwari Peetham Sadhakas have been performing Shakti Homas\, which include the powerful Sri Ganapati\, Sri Lalita\, Sri Shyamala\, Chandi & Rudra Homas for universal peace and for the fulfillment of sadhakas sadhana towards Sri Vidya\, the sacred path of Devi\, and also towards our Peetam’s goal of performing 108 Homas\, and we are in the 32nd Homam. \n\n\n\nSchedule of Events (tentative):\n\n\n\n28-Aug-25 Schedule (IST): Thursday \n\n\n\n08:00 AM: Sri Venkateswara Suprabhatam and Vishnu Sahsranama Parayanam \n\n\n\n08:30 AM: Sri Devi Mahatmyam Paranayana  \n\n\n\n10:30 AM: Sri Chandi Homam \n\n\n\n01:30 PM: Sri Lalita Homam \n\n\n\n02:30 AM: Sri Rudra Homam \n\n\n\n03:30 PM: Poornahuti \n\n\n\nSignificance of Chandi Homam\n\n\n\nMaa Durga is the prime deity of this Homa/Havan\, and she is the ultimate feminine energy in this universe. She is the mother of this universe\, and she epitomizes in herself all the divine forces for saving her dear children on Earth from evil. \n\n\n\nMain benefits of conducting this Chandi Homam:1) Performing Chandi Homam helps in overcoming obstacles and barriers in life.2) Helps you attain success and win over one’s enemies.3) Blesses one’s life with positivity\, long-lasting health\, wealth\, prosperity\, and happiness.4) Liberates one from evil eyes and curses. \n\n\n\nSignificance of Rudra Homam\n\n\n\nRudra is Lord Shiva\, the destroyer of evil forces\, and this homam is dedicated to him. He can control the nine planets and thus controls time and space. Rudra Homam\, when chanted with devotion and care\, can directly pierce through your deepest energy layers\, energize the naadis\, and flush out the negative forces that influence your health and mental states. \n\n\n\nMain benefits of conducting this Rudra Homam: \n\n\n\n1) Remove your sins and karmic effects \n\n\n\n2) Conquer troubles and death fears \n\n\n\n3) Fulfill desires & Solve relationship issues \n\n\n\n4) Protect yourself from harmful outside forces
URL:https://srirajarajeswaripeetham.org/event/33rd-chandi-lalita-rudra-homas-pitapuram-ap-india/
CATEGORIES:Homam
END:VEVENT
END:VCALENDAR